BEGIN:VCALENDAR
VERSION:2.0
PRODID:-//Wingertsbergschule Reihen - ECPv6.15.13.1//NONSGML v1.0//EN
CALSCALE:GREGORIAN
METHOD:PUBLISH
X-WR-CALNAME:Wingertsbergschule Reihen
X-ORIGINAL-URL:https://wingertsbergschule.de
X-WR-CALDESC:Veranstaltungen für Wingertsbergschule Reihen
REFRESH-INTERVAL;VALUE=DURATION:PT1H
X-Robots-Tag:noindex
X-PUBLISHED-TTL:PT1H
BEGIN:VTIMEZONE
TZID:Europe/Berlin
BEGIN:DAYLIGHT
TZOFFSETFROM:+0100
TZOFFSETTO:+0200
TZNAME:CEST
DTSTART:20240331T010000
END:DAYLIGHT
BEGIN:STANDARD
TZOFFSETFROM:+0200
TZOFFSETTO:+0100
TZNAME:CET
DTSTART:20241027T010000
END:STANDARD
BEGIN:DAYLIGHT
TZOFFSETFROM:+0100
TZOFFSETTO:+0200
TZNAME:CEST
DTSTART:20250330T010000
END:DAYLIGHT
BEGIN:STANDARD
TZOFFSETFROM:+0200
TZOFFSETTO:+0100
TZNAME:CET
DTSTART:20251026T010000
END:STANDARD
BEGIN:DAYLIGHT
TZOFFSETFROM:+0100
TZOFFSETTO:+0200
TZNAME:CEST
DTSTART:20260329T010000
END:DAYLIGHT
BEGIN:STANDARD
TZOFFSETFROM:+0200
TZOFFSETTO:+0100
TZNAME:CET
DTSTART:20261025T010000
END:STANDARD
END:VTIMEZONE
BEGIN:VEVENT
DTSTART;TZID=Europe/Berlin:20250917T190000
DTEND;TZID=Europe/Berlin:20250917T190000
DTSTAMP:20260421T122023
CREATED:20230722T113841Z
LAST-MODIFIED:20250813T163946Z
UID:1450-1758135600-1758135600@wingertsbergschule.de
SUMMARY:1. Elternabend Kl. 1a
DESCRIPTION:Der Elternabend findet in folgendem Raum statt: \nKlassenzimmer der Klasse 1a – Raum 112 im OG \n 
URL:https://wingertsbergschule.de/event/1-elternabend-kl-1a/
CATEGORIES:Eltern
END:VEVENT
BEGIN:VEVENT
DTSTART;TZID=Europe/Berlin:20250917T193000
DTEND;TZID=Europe/Berlin:20250917T193000
DTSTAMP:20260421T122023
CREATED:20230722T113953Z
LAST-MODIFIED:20250813T164047Z
UID:1452-1758137400-1758137400@wingertsbergschule.de
SUMMARY:1. Elternabend Kl. 1b
DESCRIPTION:Der Elternabend findet in folgendem Raum statt: \nKlassenzimmer der Klasse 1b – Raum 019 im EG \n 
URL:https://wingertsbergschule.de/event/1-elternabend-kl-1b/
CATEGORIES:Eltern
END:VEVENT
END:VCALENDAR